{
 "currentVersion": 11.5,
 "serviceDescription": "Stormwater/DBO_TownCreek_DEM",
 "serviceItemId": "fe63c2f31e6a419693ace9dc41393470",
 "name": "Stormwater/DBO_TownCreek_DEM",
 "description": "",
 "extent": {
  "xmin": 1841698.88220605,
  "ymin": 754487.341148098,
  "xmax": 1844148.88220605,
  "ymax": 759397.341148098,
  "spatialReference": {
   "wkid": 102736,
   "latestWkid": 2274
  }
 },
 "initialExtent": {
  "xmin": 1841698.88220605,
  "ymin": 754487.341148098,
  "xmax": 1844148.88220605,
  "ymax": 759397.341148098,
  "spatialReference": {
   "wkid": 102736,
   "latestWkid": 2274
  }
 },
 "fullExtent": {
  "xmin": 1841698.88220605,
  "ymin": 754487.341148098,
  "xmax": 1844148.88220605,
  "ymax": 759397.341148098,
  "spatialReference": {
   "wkid": 102736,
   "latestWkid": 2274
  }
 },
 "sortableFields": "",
 "bandCount": 1,
 "pixelType": "S16",
 "minValues": [
  549
 ],
 "maxValues": [
  641
 ],
 "meanValues": [
  586.633102955235
 ],
 "stdvValues": [
  18.942247405175458
 ],
 "serviceProperties": "Center<\/MosaicMethod>First<\/MosaicOperator>true<\/SortAscending><\/LockImageID><\/TileOrderField>0<\/TileOrderBase>0.000000<\/AvgImageSpacingX>0.000000<\/AvgImageSpacingY>0.0<\/ViewPointX>0.0<\/ViewPointY>0.0<\/ViewPointDefShiftX>0.0<\/ViewPointDefShiftY>None<\/CompressionMethod>75<\/CompressionQuality>0.010000<\/CompressionTolerance>Bilinear<\/SamplingMethod><\/ImageServiceProperties><\/ImageServer>",
 "allowedFields": "",
 "hasMultidimensions": false,
 "pixelSizeX": 2,
 "pixelSizeY": 2,
 "meanPixelSize": 0.6096012192024385,
 "datasetFormat": "SDR",
 "uncompressedSize": 6014750,
 "blockWidth": 128,
 "blockHeight": 128,
 "compressionType": "LZ77",
 "bandNames": [
  "Band_1"
 ],
 "allowCopy": true,
 "allowAnalysis": true,
 "itemAccess": false,
 "inspectionCapabilities": "",
 "minPixelSize": 0,
 "maxPixelSize": 0,
 "copyrightText": "",
 "serviceDataType": "esriImageServiceDataTypeGeneric",
 "serviceSourceType": "esriImageServiceSourceTypeDataset",
 "objectIdField": "",
 "fields": [],
 "capabilities": "Image,Metadata,Mensuration",
 "defaultMosaicMethod": "Center",
 "allowedMosaicMethods": "",
 "sortField": "",
 "sortValue": null,
 "sortAscending": true,
 "mosaicOperator": "First",
 "defaultCompressionQuality": 75,
 "defaultResamplingMethod": "Bilinear",
 "maxImageHeight": 4100,
 "maxImageWidth": 15000,
 "allowRasterFunction": true,
 "rasterFunctionInfos": [
  {
   "name": "None",
   "description": "",
   "help": ""
  }
 ],
 "rasterTypeInfos": [
  {
   "name": "Raster Dataset",
   "description": "Supports all ArcGIS Raster Datasets",
   "help": ""
  }
 ],
 "mensurationCapabilities": "Basic",
 "hasHistograms": true,
 "hasColormap": false,
 "hasRasterAttributeTable": false,
 "minScale": 0,
 "maxScale": 0,
 "exportTilesAllowed": false,
 "supportsStatistics": false,
 "supportsAdvancedQueries": false,
 "editFieldsInfo": null,
 "ownershipBasedAccessControlForRasters": null,
 "allowComputeTiePoints": false,
 "useStandardizedQueries": true,
 "advancedQueryCapabilities": {
  "useStandardizedQueries": true,
  "supportsStatistics": false,
  "supportsOrderBy": false,
  "supportsDistinct": false,
  "supportsPagination": false
 },
 "spatialReference": {
  "wkid": 102736,
  "latestWkid": 2274
 }
}
